BEGIN:VCALENDAR
VERSION:2.0
PRODID:icalendar-ruby
CALSCALE:GREGORIAN
METHOD:PUBLISH
BEGIN:VEVENT
DTSTAMP:20260422T022442Z
UID:10-1076582@delrayno.com
DTSTART:20261014T222000Z
DTEND:20261014T230000Z
CLASS:PUBLIC
CREATED:20260421T204232
DESCRIPTION:
LAST-MODIFIED:20260421T204232
LOCATION:
SUMMARY:Adult Handbells
URL;VALUE=URI:https://www.delrayno.com/events/adult-handbells/2026-10-14
ATTACH;FILENAME=Handbells.jpeg;FMTTYPE=image/jpeg:https://dq5pwpg1q8ru0.clo
 udfront.net/2023/09/25/06/45/09/c2074a3a-ff16-4398-ab73-354754924f8b/Handb
 ells.jpeg
END:VEVENT
END:VCALENDAR
