BEGIN:VCALENDAR
VERSION:2.0
PRODID:icalendar-ruby
CALSCALE:GREGORIAN
METHOD:PUBLISH
BEGIN:VEVENT
DTSTAMP:20260423T230210Z
UID:11-1085693@delrayno.com
DTSTART:20260930T230000Z
DTEND:20261001T000000Z
CLASS:PUBLIC
CREATED:20260423T163109
DESCRIPTION:
LAST-MODIFIED:20260423T163109
LOCATION:
SUMMARY:Choir Practice
URL;VALUE=URI:https://www.delrayno.com/events/choir-practice/2026-09-30
ATTACH;FILENAME=choir_practice.jpeg;FMTTYPE=image/jpeg:https://dq5pwpg1q8ru
 0.cloudfront.net/2023/09/25/06/45/40/46e5a574-4be0-4824-95f9-de78d08148bb/
 choir_practice.jpeg
END:VEVENT
END:VCALENDAR
