BEGIN:VCALENDAR
VERSION:2.0
PRODID:icalendar-ruby
CALSCALE:GREGORIAN
METHOD:PUBLISH
BEGIN:VEVENT
DTSTAMP:20260424T051020Z
UID:46-1087586@delrayno.com
DTSTART:20260730T230000Z
DTEND:20260731T000000Z
CLASS:PUBLIC
CREATED:20260423T221846
DESCRIPTION:
LAST-MODIFIED:20260423T221846
LOCATION:
SUMMARY:Intercessory Prayer Meeting
URL;VALUE=URI:https://www.delrayno.com/events/intercessory-prayer-meeting--
 46/2026-07-30
ATTACH;FILENAME=intercessory-prayer_orig.png;FMTTYPE=image/png:https://dq5p
 wpg1q8ru0.cloudfront.net/2024/09/29/00/27/02/55f7d934-e5da-4d7f-af6d-ac8ac
 fc124ed/intercessory-prayer_orig.png
END:VEVENT
END:VCALENDAR
